BEGIN:VCALENDAR
VERSION:2.0
PRODID:-//Freiwillige Feuerwehr Klein Himstedt - ECPv5.16.4//NONSGML v1.0//EN
CALSCALE:GREGORIAN
METHOD:PUBLISH
X-ORIGINAL-URL:https://ffw-kleinhimstedt.de
X-WR-CALDESC:Events for Freiwillige Feuerwehr Klein Himstedt
REFRESH-INTERVAL;VALUE=DURATION:PT1H
X-Robots-Tag:noindex
X-PUBLISHED-TTL:PT1H
BEGIN:VTIMEZONE
TZID:Europe/Berlin
BEGIN:DAYLIGHT
TZOFFSETFROM:+0100
TZOFFSETTO:+0200
TZNAME:CEST
DTSTART:20240331T010000
END:DAYLIGHT
BEGIN:STANDARD
TZOFFSETFROM:+0200
TZOFFSETTO:+0100
TZNAME:CET
DTSTART:20241027T010000
END:STANDARD
END:VTIMEZONE
BEGIN:VEVENT
DTSTART;TZID=Europe/Berlin:20240304T190000
DTEND;TZID=Europe/Berlin:20240304T210000
DTSTAMP:20260421T161005
CREATED:20240205T131641Z
LAST-MODIFIED:20240205T131641Z
UID:203-1709578800-1709586000@ffw-kleinhimstedt.de
SUMMARY:Ausbildung Gerätehaus
DESCRIPTION:
URL:https://ffw-kleinhimstedt.de/event/ausbildung-geraetehaus-11/
END:VEVENT
BEGIN:VEVENT
DTSTART;TZID=Europe/Berlin:20240308T190000
DTEND;TZID=Europe/Berlin:20240308T210000
DTSTAMP:20260421T161005
CREATED:20240205T131731Z
LAST-MODIFIED:20240205T131731Z
UID:205-1709924400-1709931600@ffw-kleinhimstedt.de
SUMMARY:KFV Verbandsversammlung
DESCRIPTION:
URL:https://ffw-kleinhimstedt.de/event/kfv-verbandsversammlung/
END:VEVENT
BEGIN:VEVENT
DTSTART;TZID=Europe/Berlin:20240309T140000
DTEND;TZID=Europe/Berlin:20240309T190000
DTSTAMP:20260421T161005
CREATED:20240205T131807Z
LAST-MODIFIED:20240205T131807Z
UID:207-1709992800-1710010800@ffw-kleinhimstedt.de
SUMMARY:Fahrzeugeinweihung Gr. Himstedt
DESCRIPTION:
URL:https://ffw-kleinhimstedt.de/event/fahrzeugeinweihung-gr-himstedt/
END:VEVENT
BEGIN:VEVENT
DTSTART;TZID=Europe/Berlin:20240316T100000
DTEND;TZID=Europe/Berlin:20240316T170000
DTSTAMP:20260421T161005
CREATED:20240205T131920Z
LAST-MODIFIED:20240205T131920Z
UID:209-1710583200-1710608400@ffw-kleinhimstedt.de
SUMMARY:Tag der sauberen Landschaft
DESCRIPTION:
URL:https://ffw-kleinhimstedt.de/event/tag-der-sauberen-landschaft/
END:VEVENT
BEGIN:VEVENT
DTSTART;TZID=Europe/Berlin:20240321T190000
DTEND;TZID=Europe/Berlin:20240321T210000
DTSTAMP:20260421T161005
CREATED:20240205T131949Z
LAST-MODIFIED:20240205T131949Z
UID:211-1711047600-1711054800@ffw-kleinhimstedt.de
SUMMARY:Gemeindekommandositzung
DESCRIPTION:
URL:https://ffw-kleinhimstedt.de/event/gemeindekommandositzung/
END:VEVENT
BEGIN:VEVENT
DTSTART;TZID=Europe/Berlin:20240331T180000
DTEND;TZID=Europe/Berlin:20240331T230000
DTSTAMP:20260421T161005
CREATED:20240205T132013Z
LAST-MODIFIED:20240205T132013Z
UID:213-1711908000-1711926000@ffw-kleinhimstedt.de
SUMMARY:Osterfeuer
DESCRIPTION:
URL:https://ffw-kleinhimstedt.de/event/osterfeuer/
END:VEVENT
END:VCALENDAR