BEGIN:VCALENDAR
VERSION:2.0
PRODID:-//Freiwillige Feuerwehr Klein Himstedt - ECPv5.16.4//NONSGML v1.0//EN
CALSCALE:GREGORIAN
METHOD:PUBLISH
X-ORIGINAL-URL:https://ffw-kleinhimstedt.de
X-WR-CALDESC:Events for Freiwillige Feuerwehr Klein Himstedt
REFRESH-INTERVAL;VALUE=DURATION:PT1H
X-Robots-Tag:noindex
X-PUBLISHED-TTL:PT1H
BEGIN:VTIMEZONE
TZID:Europe/Berlin
BEGIN:DAYLIGHT
TZOFFSETFROM:+0100
TZOFFSETTO:+0200
TZNAME:CEST
DTSTART:20240331T010000
END:DAYLIGHT
BEGIN:STANDARD
TZOFFSETFROM:+0200
TZOFFSETTO:+0100
TZNAME:CET
DTSTART:20241027T010000
END:STANDARD
END:VTIMEZONE
BEGIN:VEVENT
DTSTART;TZID=Europe/Berlin:20241202T190000
DTEND;TZID=Europe/Berlin:20241202T210000
DTSTAMP:20260419T160215
CREATED:20240205T132903Z
LAST-MODIFIED:20240205T132903Z
UID:251-1733166000-1733173200@ffw-kleinhimstedt.de
SUMMARY:Ausbildung Gerätehaus
DESCRIPTION:
URL:https://ffw-kleinhimstedt.de/event/ausbildung-geraetehaus-7/
END:VEVENT
END:VCALENDAR